BEGIN:VCALENDAR
VERSION:2.0
PRODID:-//wp-events-plugin.com//7.2.3.1//EN
TZID:Europe/Zurich
X-WR-TIMEZONE:Europe/Zurich
BEGIN:VEVENT
UID:63@tsc.education
DTSTART;TZID=Europe/Zurich;VALUE=DATE:20270201
DTEND;TZID=Europe/Zurich;VALUE=DATE:20270202
DTSTAMP:20260401T132454Z
URL:https://tsc.education/events/online-kurs-einleitung-nt/
SUMMARY:Online-Kurs: Einleitung Neues Testament
DESCRIPTION:Entdecke die Hintergründe des Neuen Testaments: Von Autorensch
 aft bis Kanonbildung – dieses Modul schärft deinen Blick für Textkriti
 k\, Forschung und die theologische Reflexion heutiger Fragen.
ATTACH;FMTTYPE=image/jpeg:https://tsc.education/wp-content/uploads/2026/02
 /5.jpg
CATEGORIES:Beat Nusser,Seminare
LOCATION:https://moodle.tsc.education/
END:VEVENT
BEGIN:VTIMEZONE
TZID:Europe/Zurich
X-LIC-LOCATION:Europe/Zurich
BEGIN:STANDARD
DTSTART:20261025T020000
TZOFFSETFROM:+0200
TZOFFSETTO:+0100
TZNAME:CET
END:STANDARD
END:VTIMEZONE
END:VCALENDAR