BEGIN:VCALENDAR
VERSION:2.0
PRODID:-//wp-events-plugin.com//7.2.3.1//EN
TZID:Europe/Zurich
X-WR-TIMEZONE:Europe/Zurich
BEGIN:VEVENT
UID:21@tsc.education
DTSTART;TZID=Europe/Zurich;VALUE=DATE:20270201
DTEND;TZID=Europe/Zurich;VALUE=DATE:20270202
DTSTAMP:20260324T152421Z
URL:https://tsc.education/events/online-kurs-kommunikation-des-evangeliums
 /
SUMMARY:Online-Kurs: Kommunikation des Evangeliums
DESCRIPTION:Wie erzähle ich den Menschen heute von Jesus? Im Online-Kurs K
 ommunikation des Evangeliums lernst du\, wie du Inhalte\, Werte und Formen
  des christlichen Glaubens mitteilen kannst.
ATTACH;FMTTYPE=image/jpeg:https://tsc.education/wp-content/uploads/2026/03
 /kommunikation-evangelium-500px-v1.jpg
CATEGORIES:Dr. Zachary Fischer,Seminare
LOCATION:https://moodle.tsc.education/
END:VEVENT
BEGIN:VTIMEZONE
TZID:Europe/Zurich
X-LIC-LOCATION:Europe/Zurich
BEGIN:STANDARD
DTSTART:20261025T020000
TZOFFSETFROM:+0200
TZOFFSETTO:+0100
TZNAME:CET
END:STANDARD
END:VTIMEZONE
END:VCALENDAR